BEGIN:VCALENDAR
VERSION:2.0
PRODID:-//Sabre//Sabre VObject 4.5.1//EN
CALSCALE:GREGORIAN
BEGIN:VEVENT
UID:sabre-vobject-0b9c8433-578e-49a5-83ac-88e863817545
DTSTAMP:20260419T210016Z
SUMMARY:Demonstration: Art of Plant-based Dyeing
DESCRIPTION:\n\nblanko.events::ical.page_linkhttps://www.beaconsfield.ca/en
 /events/lectures-and-conferences/demonstration-art-of-plant-based-dyeing
LOCATION:Centennial Hall
DTSTART;TZID=America/New_York:20260517T090000
DTEND;TZID=America/New_York:20260517T120000
END:VEVENT
END:VCALENDAR
